BEGIN:VCALENDAR
VERSION:2.0
PRODID:-//Gumnut Valley Alpacas
CALSCALE:GREGORIAN
METHOD:PUBLISH
X-WR-CALNAME:Gumnut Valley Alpacas
X-ORIGINAL-URL:https://gumnutvalley.com.au/product/alpaca-husbandry-workshop-september/
X-WR-CALDESC:Husbandry Workshop
BEGIN:VTIMEZONE
TZID:
END:VTIMEZONE
BEGIN:VEVENT
DTSTART:20241123T083000
DTEND:20241123T113000
DTSTAMP:20260421T084403
UID:2266-jayne@webonize.com.au
SUMMARY:Husbandry Workshop
DESCRIPTION:
URL:https://gumnutvalley.com.au/product/alpaca-husbandry-workshop-september/
LOCATION:456 Butterwick Road, Butterwick NSW 2321
END:VEVENT
END:VCALENDAR
